Workbook

Sheet ALL GOVERNMENT FUNDS
A1: ALL GOVERNMENT FUNDS
A2: Combining Balance sheet and Statement of Revenue & Expenses
A3: 43830
H5: OTHER NOT REPORTED AS ALL GOVERNMENT FUNDS
B6: General Fund | C6: Capital Projects Fund (3000/4000/4100) | D6: Human Services Fund | E6: 2590 Workforce Development | F6: Other Governmental Funds | G6: TOTAL GOVT FUNDS | H6: 7000 PENSION | I6: 7200 Various Agency Trusts | J6: 7300 Sheriff | K6: 7400 Prison -Inmate Escrow | L6: 7410 Prison Commissary | M6: 2360 Economic Development | N6: Adj Entries for 2360 | O6: 8000 Fixed Assets | P6: Subtotal of These Others | Q6: TOTAL COUNTY FUNDS | R6: 0000 Pooled Cash | S6: TIES TO TRIAL BALANCE
A7: Assets
A8: Cash & cash equivalents | B8: ='General Fund'!M8 -> 6848931.2 | C8: ='Capital Projects Fund'!H8 -> -139518 | D8: ='Human Services'!I8 -> 824930.46 | E8: -1572521.4 | F8: ='Other Government'!AI8 -> 4380719 | G8: =SUM(B8:F8) -> 10342541 | H8: =59247146.14-H15 -> 59247146 | I8: 45122.04 | J8: 77818.4 | K8: 4431.51 | L8: 100750.59 | M8: =-667951.41 -> -667951.41 | N8: 72905.8 | P8: =SUM(H8:O8) -> 58880223 | Q8: =G8+P8 -> 69222764 | R8: 8444804.1 | S8: =Q8+R8 -> 77667568 | V8: =SUM(M8:N18) -> 1184280.1
A9: Advances Receivable | D9: ='Human Services'!I9 -> 0 | F9: 0 | G9: =SUM(B9:F9) -> 0 | P9: =SUM(H9:O9) -> 0 | Q9: =G9+P9 -> 0 | S9: =Q9+R9 -> 0
A10: Taxes Receivable | B10: ='General Fund'!M10 -> 1462931.1 | G10: =SUM(B10:F10) -> 1462931.1 | P10: =SUM(H10:O10) -> 0 | Q10: =G10+P10 -> 1462931.1 | S10: =Q10+R10 -> 1462931.1
A11: A/R | B11: ='General Fund'!M9 -> 399176.89 | C11: ='Capital Projects Fund'!H9 -> 0 | D11: ='Human Services'!I10 -> 1101496.2 | F11: ='Other Government'!AI9 -> 1038191.1 | G11: =SUM(B11:F11) -> 2538864.2 | M11: 692433.89 | P11: =SUM(H11:O11) -> 692433.89 | Q11: =G11+P11 -> 3231298.1 | S11: =Q11+R11 -> 3231298.1
A12: Due from Component Unit | B12: ='General Fund'!M11 -> 944292 | G12: =SUM(B12:F12) -> 944292
A13: Due from Other Funds | B13: ='General Fund'!M12 -> 651445.8 | C13: ='Capital Projects Fund'!H10 -> 0 | D13: ='Human Services'!I11 -> 91749.53 | F13: ='Other Government'!AI10 -> 27397.69 | G13: =SUM(B13:F13) -> 770593.02 | P13: =SUM(H13:O13) -> 0 | Q13: =G13+P13 -> 770593.02 | S13: =Q13+R13 -> 770593.02
A14: Due from Other Governments | B14: ='General Fund'!M13 -> 78239.87 | C14: ='Capital Projects Fund'!H11 -> 0 | D14: ='Human Services'!I12 -> 1650959.1 | E14: 2490146.4 | F14: ='Other Government'!AI11 -> 553694.96 | G14: =SUM(B14:F14) -> 4773040.3 | P14: =SUM(H14:O14) -> 0 | Q14: =G14+P14 -> 4773040.3 | S14: =Q14+R14 -> 4773040.3
A15: Other Assets | B15: ='General Fund'!M14 -> 0 | C15: ='Capital Projects Fund'!H12 -> 0 | D15: ='Human Services'!I13 -> -2 | F15: ='Other Government'!AI12 -> 72415.11 | G15: =SUM(B15:F15) -> 72413.11 | M15: 1086891.8 | O15: =24911364.9+35615 -> 24946980 | P15: =SUM(H15:O15) -> 26033872 | Q15: =G15+P15 -> 26106285 | S15: =Q15+R15 -> 26106285
A16: Lease Receivable | C16: ='Capital Projects Fund'!H13 -> 0 | G16: =SUM(B16:F16) -> 0 | P16: =SUM(H16:O16) -> 0 | Q16: =G16+P16 -> 0 | S16: =Q16+R16 -> 0
A17: Current | G17: =SUM(B17:F17) -> 0 | P17: =SUM(H17:O17) -> 0 | Q17: =G17+P17 -> 0 | S17: =Q17+R17 -> 0
A18: Non-Current | G18: =SUM(B18:F18) -> 0 | P18: =SUM(H18:O18) -> 0 | Q18: =G18+P18 -> 0 | S18: =Q18+R18 -> 0
A19: Total Assets | B19: ='General Fund'!M15 -> 10385017 | C19: ='Capital Projects Fund'!H14 -> -139518 | D19: ='Human Services'!I14 -> 3669133.2 | E19: =SUM(E8:E18) -> 917625.02 | F19: ='Other Government'!AI13 -> 6072417.9 | G19: =SUM(B19:F19) -> 20904675 | H19: =SUM(H8:H18) -> 59247146 | I19: =SUM(I8:I18) -> 45122.04 | J19: =SUM(J8:J18) -> 77818.4 | K19: =SUM(K8:K18) -> 4431.51 | L19: =SUM(L8:L18) -> 100750.59 | M19: =SUM(M8:M18) -> 1111374.3 | O19: =SUM(O8:O18) -> 24946980 | P19: =SUM(P8:P18) -> 85606529 | Q19: =SUM(Q8:Q18) -> 1.0556691e+08 | R19: =SUM(R8:R18) -> 8444804.1 | S19: =Q19+R19 -> 1.1401172e+08 | T19: ties to Major Fund Determination
T20: ='[1]Major fund 2019'!$C$112 -> 1.1468533e+08
A21: Liabilities
A22: A/P | B22: ='General Fund'!M18 -> 1159048 | C22: ='Capital Projects Fund'!H17 -> 0 | D22: ='Human Services'!I17 -> 985392.95 | E22: 707350.58 | F22: ='Other Government'!AI16 -> 626634.69 | G22: =SUM(B22:F22) -> 3478426.2 | J22: 77818.4 | K22: 4799.08 | L22: 78087.93 | M22: =8522+52055 -> 60577 | P22: =SUM(H22:O22) -> 221282.41 | Q22: =G22+P22 -> 3699708.6 | S22: =Q22+R22 -> 3699708.6
A23: Accrued Payroll | B23: ='General Fund'!M19 -> 352732.09 | C23: ='Capital Projects Fund'!H18 -> 0 | D23: ='Human Services'!I18 -> 334225.68 | E23: 17303.15 | F23: ='Other Government'!AI17 -> 44122.01 | G23: =SUM(B23:F23) -> 748382.93 | M23: 10021.45 | P23: =SUM(H23:O23) -> 10021.45 | Q23: =G23+P23 -> 758404.38 | S23: =Q23+R23 -> 758404.38
A24: Due to Other Funds | B24: ='General Fund'!M20 -> 101133.21 | D24: ='Human Services'!I19 -> 160355 | F24: ='Other Government'!AI18 -> 0 | G24: =SUM(B24:F24) -> 261488.21 | I24: 45122.04 | P24: =SUM(H24:O24) -> 45122.04 | Q24: =G24+P24 -> 306610.25 | R24: 8444804.1 | S24: =Q24+R24 -> 8751414.4
A25: Due to Other Governments | B25: ='General Fund'!M21 -> 23285.99 | C25: ='Capital Projects Fund'!H19 -> 0 | D25: ='Human Services'!I20 -> 0 | F25: ='Other Government'!AI19 -> 0 | G25: =SUM(B25:F25) -> 23285.99 | P25: =SUM(H25:O25) -> 0 | Q25: =G25+P25 -> 23285.99 | S25: =Q25+R25 -> 23285.99
A26: Deferred Revenue | B26: ='General Fund'!M22 -> 288286.36 | C26: ='Capital Projects Fund'!H20 -> 0 | D26: ='Human Services'!I21 -> 1843751.9 | E26: =192978.44-7.15 -> 192971.29 | F26: ='Other Government'!AI20 -> 1375874.8 | G26: =SUM(B26:F26) -> 3700884.3 | M26: 294695.78 | P26: =SUM(H26:O26) -> 294695.78 | Q26: =G26+P26 -> 3995580.1 | S26: =Q26+R26 -> 3995580.1
A27: Total Liabilities | B27: ='General Fund'!M23 -> 1924485.6 | C27: ='Capital Projects Fund'!H21 -> 0 | D27: ='Human Services'!I22 -> 3323725.5 | E27: =SUM(E22:E26) -> 917625.02 | F27: ='Other Government'!AI21 -> 2046631.5 | G27: =SUM(G22:G26) -> 8212467.7 | H27: =SUM(H22:H26) -> 0 | I27: =SUM(I22:I26) -> 45122.04 | J27: =SUM(J22:J26) -> 77818.4 | K27: =SUM(K22:K26) -> 4799.08 | L27: =SUM(L22:L26) -> 78087.93 | M27: =SUM(M22:M26) -> 365294.23 | O27: =SUM(O22:O26) -> 0 | P27: =SUM(P22:P26) -> 571121.68 | Q27: =SUM(Q22:Q26) -> 8783589.4 | R27: =SUM(R22:R26) -> 8444804.1 | S27: =SUM(S22:S26) -> 17228393 | T27: ties to Major Fund Determination
T28: ='[1]Major fund 2019'!$D$112 -> 18826889
A29: Deferred Inflows of Resources:
A30: Unavailable revenue - taxes/fees | B30: ='General Fund'!M26 -> 1459235 | C30: ='Capital Projects Fund'!H24 -> 0 | G30: =SUM(B30:F30) -> 1459235
A31: Unavailable revenue - note | B31: ='General Fund'!M27 -> 0 | C31: ='Capital Projects Fund'!H25 -> 0 | G31: =SUM(B31:F31) -> 0
A32: Total Deferred Inflows of Resources | B32: =SUM(B30:B31) -> 1459235 | C32: ='Capital Projects Fund'!H26 -> 0 | E32: =SUM(E30:E31) -> 0 | G32: =SUM(B32:F32) -> 1459235
A34: Fund Balance
A35: Reserved: Program | B35: ='General Fund'!M32 -> 0 | C35: ='Capital Projects Fund'!H29 -> 0 | F35: ='Other Government'!AI25 -> 0 | G35: =SUM(B35:F35) -> 0 | P35: =SUM(H35:O35) -> 0 | Q35: =G35+P35 -> 0 | S35: =Q35+R35 -> 0
A36: Operating Reserve | B36: ='General Fund'!M33 -> 1514421.1 | G36: =SUM(B36:F36) -> 1514421.1 | P36: =SUM(H36:O36) -> 0 | Q36: =G36+P36 -> 1514421.1 | S36: =Q36+R36 -> 1514421.1
A37: Human Services | D37: ='Human Services'!I28-'Substance Abuse'!I28 -> 50214.35 | F37: ='Other Government'!AI26 -> 40213.88 | G37: =SUM(B37:F37) -> 90428.23 | P37: =SUM(H37:O37) -> 0 | Q37: =G37+P37 -> 90428.23 | S37: =Q37+R37 -> 90428.23
A38: Roads and bridges | F38: ='Other Government'!AI27 -> 1390654 | G38: =SUM(B38:F38) -> 1390654 | P38: =SUM(H38:O38) -> 0 | Q38: =G38+P38 -> 1390654 | S38: =Q38+R38 -> 1390654
A39: Affordable housing | F39: ='Other Government'!AI28 -> 24635.57 | G39: =SUM(B39:F39) -> 24635.57 | P39: =SUM(H39:O39) -> 0 | Q39: =G39+P39 -> 24635.57 | S39: =Q39+R39 -> 24635.57
A40: Hazardous Materials | F40: ='Other Government'!AI29 -> 86115.23 | G40: =SUM(B40:F40) -> 86115.23
A41: 911 | F41: ='Other Government'!AI30 -> 88647.51 | G41: =SUM(B41:F41) -> 88647.51
A42: Act 13 | F42: ='Other Government'!AI31 -> 339366.45 | G42: =SUM(B42:F42) -> 339366.45 | P42: =SUM(H42:O42) -> 0 | Q42: =G42+P42 -> 339366.45 | S42: =Q42+R42 -> 339366.45
...

Sheet Front Stmts
A1: ='ALL GOVERNMENT FUNDS'!A1 -> ALL GOVERNMENT FUNDS
A2: ='ALL GOVERNMENT FUNDS'!A2 -> Combining Balance sheet and Statement of Revenue & Expenses
A3: ='ALL GOVERNMENT FUNDS'!A3 -> 43830
A4: yellow=new line items since back statements for front only
B6: ='ALL GOVERNMENT FUNDS'!B6 -> General Fund | C6: ='ALL GOVERNMENT FUNDS'!C6 -> Capital Projects Fund (3000/4000/4100) | D6: ='ALL GOVERNMENT FUNDS'!D6 -> Human Services Fund | E6: ='ALL GOVERNMENT FUNDS'!E6 -> 2590 Workforce Development | F6: ='ALL GOVERNMENT FUNDS'!F6 -> Other Governmental Funds | G6: ='ALL GOVERNMENT FUNDS'!G6 -> TOTAL GOVT FUNDS | H6: #1 Lease Receivable | I6: #2 Compensated Absences | J6: #3 Clerk of Courts | K6: #4 Debt | L6: #5 Taxes Receivable | M6: #6 In-Kind EHS | N6: #7 Capital Assets | O6: #8 Capital Lease | P6: #9 Net Pension Asset | Q6: Other Eliminations & Adj | R6: Adjusted Amounts
A7: ='ALL GOVERNMENT FUNDS'!A7 -> Assets | B7: ='ALL GOVERNMENT FUNDS'!B7 -> 0 | C7: ='ALL GOVERNMENT FUNDS'!C7 -> 0 | D7: ='ALL GOVERNMENT FUNDS'!D7 -> 0 | E7: ='ALL GOVERNMENT FUNDS'!E7 -> 0 | F7: ='ALL GOVERNMENT FUNDS'!F7 -> 0 | G7: ='ALL GOVERNMENT FUNDS'!G7 -> 0
A8: ='ALL GOVERNMENT FUNDS'!A8 -> Cash & cash equivalents | B8: ='ALL GOVERNMENT FUNDS'!B8 -> 6848931.2 | C8: ='ALL GOVERNMENT FUNDS'!C8 -> -139518 | D8: ='ALL GOVERNMENT FUNDS'!D8 -> 824930.46 | E8: ='ALL GOVERNMENT FUNDS'!E8 -> -1572521.4 | F8: ='ALL GOVERNMENT FUNDS'!F8 -> 4380719 | G8: ='ALL GOVERNMENT FUNDS'!G8 -> 10342541 | R8: =SUM(G8:Q8) -> 10342541
A9: ='ALL GOVERNMENT FUNDS'!A9 -> Advances Receivable | B9: ='ALL GOVERNMENT FUNDS'!B9 -> 0 | C9: ='ALL GOVERNMENT FUNDS'!C9 -> 0 | D9: ='ALL GOVERNMENT FUNDS'!D9 -> 0 | E9: ='ALL GOVERNMENT FUNDS'!E9 -> 0 | F9: ='ALL GOVERNMENT FUNDS'!F9 -> 0 | G9: ='ALL GOVERNMENT FUNDS'!G9 -> 0 | R9: =SUM(G9:Q9) -> 0
A10: ='ALL GOVERNMENT FUNDS'!A10 -> Taxes Receivable | B10: ='ALL GOVERNMENT FUNDS'!B10 -> 1462931.1 | C10: ='ALL GOVERNMENT FUNDS'!C10 -> 0 | D10: ='ALL GOVERNMENT FUNDS'!D10 -> 0 | E10: ='ALL GOVERNMENT FUNDS'!E10 -> 0 | F10: ='ALL GOVERNMENT FUNDS'!F10 -> 0 | G10: ='ALL GOVERNMENT FUNDS'!G10 -> 1462931.1 | R10: =SUM(G10:Q10) -> 1462931.1
A11: ='ALL GOVERNMENT FUNDS'!A11 -> A/R | B11: ='ALL GOVERNMENT FUNDS'!B11 -> 399176.89 | C11: ='ALL GOVERNMENT FUNDS'!C11 -> 0 | D11: ='ALL GOVERNMENT FUNDS'!D11 -> 1101496.2 | E11: ='ALL GOVERNMENT FUNDS'!E11 -> 0 | F11: ='ALL GOVERNMENT FUNDS'!F11 -> 1038191.1 | G11: ='ALL GOVERNMENT FUNDS'!G11 -> 2538864.2 | Q11: =-62835-8874.19 -> -71709.19 | R11: =SUM(G11:Q11) -> 2467155 | S11: 2467155 | T11: =R11-S11 -> 0
A12: A/R, Fiduciary | G12: - | Q12: 509104.81 | R12: =SUM(G12:Q12) -> 509104.81
A13: ='ALL GOVERNMENT FUNDS'!A12 -> Due from Component Unit | B13: ='ALL GOVERNMENT FUNDS'!B12 -> 944292 | C13: ='ALL GOVERNMENT FUNDS'!C12 -> 0 | D13: ='ALL GOVERNMENT FUNDS'!D12 -> 0 | E13: ='ALL GOVERNMENT FUNDS'!E12 -> 0 | F13: ='ALL GOVERNMENT FUNDS'!F12 -> 0 | G13: ='ALL GOVERNMENT FUNDS'!G12 -> 944292 | R13: =SUM(G13:Q13) -> 944292
A14: ='ALL GOVERNMENT FUNDS'!A13 -> Due from Other Funds | B14: ='ALL GOVERNMENT FUNDS'!B13 -> 651445.8 | C14: ='ALL GOVERNMENT FUNDS'!C13 -> 0 | D14: ='ALL GOVERNMENT FUNDS'!D13 -> 91749.53 | E14: ='ALL GOVERNMENT FUNDS'!E13 -> 0 | F14: ='ALL GOVERNMENT FUNDS'!F13 -> 27397.69 | G14: ='ALL GOVERNMENT FUNDS'!G13 -> 770593.02 | Q14: =-261488.21-509104.81 -> -770593.02 | R14: =SUM(G14:Q14) -> 0
A15: ='ALL GOVERNMENT FUNDS'!A14 -> Due from Other Governments | B15: ='ALL GOVERNMENT FUNDS'!B14 -> 78239.87 | C15: ='ALL GOVERNMENT FUNDS'!C14 -> 0 | D15: ='ALL GOVERNMENT FUNDS'!D14 -> 1650959.1 | E15: ='ALL GOVERNMENT FUNDS'!E14 -> 2490146.4 | F15: ='ALL GOVERNMENT FUNDS'!F14 -> 553694.96 | G15: ='ALL GOVERNMENT FUNDS'!G14 -> 4773040.3 | Q15: 71711.71 | R15: =SUM(G15:Q15) -> 4844752 | S15: 4844752 | T15: =R15-S15 -> 0
A16: Net Pension Asset | C16: 0 | D16: 0 | E16: 0 | F16: 0 | G16: =SUM(B16:F16) -> 0 | P16: 9136682 | R16: =SUM(G16:Q16) -> 9136682
A17: Beg. Year Non-Dep. Capital Assets | B17: 0 | C17: 0 | D17: 0 | E17: 0 | F17: 0 | G17: =SUM(B17:F17) -> 0 | N17: =2119678+40000 -> 2159678 | R17: =SUM(G17:Q17) -> 2159678
A18: Depreciable Capital Assets | B18: 0 | C18: 0 | D18: 0 | E18: 0 | F18: 0 | G18: =SUM(B18:F18) -> 0 | N18: =62207713+1814871-450905 -> 63571679 | R18: =SUM(G18:Q18) -> 63571679
A19: A/D | B19: 0 | C19: 0 | D19: 0 | E19: 0 | F19: 0 | G19: =SUM(B19:F19) -> 0 | N19: =-39548864+417273-1652784 -> -40784375 | R19: =SUM(G19:Q19) -> -40784375 | S19: =SUM(R18:R19) -> 22787304
A20: Deferred Outflows Pension | B20: 0 | C20: 0 | D20: 0 | E20: 0 | F20: 0 | G20: =SUM(B20:F20) -> 0 | P20: 3777847 | R20: =SUM(G20:Q20) -> 3777847
A21: ='ALL GOVERNMENT FUNDS'!A15 -> Other Assets | B21: ='ALL GOVERNMENT FUNDS'!B15 -> 0 | C21: ='ALL GOVERNMENT FUNDS'!C15 -> 0 | D21: ='ALL GOVERNMENT FUNDS'!D15 -> -2 | E21: ='ALL GOVERNMENT FUNDS'!E15 -> 0 | F21: ='ALL GOVERNMENT FUNDS'!F15 -> 72415.11 | G21: ='ALL GOVERNMENT FUNDS'!G15 -> 72413.11 | R21: =SUM(G21:Q21) -> 72413.11
A22: ='ALL GOVERNMENT FUNDS'!A16 -> Lease Receivable | B22: ='ALL GOVERNMENT FUNDS'!B16 -> 0 | C22: ='ALL GOVERNMENT FUNDS'!C16 -> 0 | D22: ='ALL GOVERNMENT FUNDS'!D16 -> 0 | E22: ='ALL GOVERNMENT FUNDS'!E16 -> 0 | F22: ='ALL GOVERNMENT FUNDS'!F16 -> 0 | G22: ='ALL GOVERNMENT FUNDS'!G16 -> 0 | R22: =SUM(G22:Q22) -> 0
A23: ='ALL GOVERNMENT FUNDS'!A17 -> Current | B23: ='ALL GOVERNMENT FUNDS'!B17 -> 0 | C23: ='ALL GOVERNMENT FUNDS'!C17 -> 0 | D23: ='ALL GOVERNMENT FUNDS'!D17 -> 0 | E23: ='ALL GOVERNMENT FUNDS'!E17 -> 0 | F23: ='ALL GOVERNMENT FUNDS'!F17 -> 0 | G23: ='ALL GOVERNMENT FUNDS'!G17 -> 0 | R23: =SUM(G23:Q23) -> 0
A24: ='ALL GOVERNMENT FUNDS'!A18 -> Non-Current | B24: ='ALL GOVERNMENT FUNDS'!B18 -> 0 | C24: ='ALL GOVERNMENT FUNDS'!C18 -> 0 | D24: ='ALL GOVERNMENT FUNDS'!D18 -> 0 | E24: ='ALL GOVERNMENT FUNDS'!E18 -> 0 | F24: ='ALL GOVERNMENT FUNDS'!F18 -> 0 | G24: ='ALL GOVERNMENT FUNDS'!G18 -> 0 | R24: =SUM(G24:Q24) -> 0
A25: ='ALL GOVERNMENT FUNDS'!A19 -> Total Assets | B25: ='ALL GOVERNMENT FUNDS'!B19 -> 10385017 | C25: ='ALL GOVERNMENT FUNDS'!C19 -> -139518 | D25: ='ALL GOVERNMENT FUNDS'!D19 -> 3669133.2 | E25: ='ALL GOVERNMENT FUNDS'!E19 -> 917625.02 | F25: ='ALL GOVERNMENT FUNDS'!F19 -> 6072417.9 | G25: ='ALL GOVERNMENT FUNDS'!G19 -> 20904675 | H25: =SUM(H8:H24) -> 0 | I25: =SUM(I8:I24) -> 0 | J25: =SUM(J8:J24) -> 0 | K25: =SUM(K8:K24) -> 0 | L25: =SUM(L8:L24) -> 0 | M25: =SUM(M8:M24) -> 0 | N25: =SUM(N8:N24) -> 24946982 | O25: =SUM(O8:O24) -> 0 | ... Q25: =SUM(Q8:Q24) -> -261485.69 | R25: =SUM(G25:Q25) -> 58504700 | S25: =SUM(R8:R24) -> 58504700
A27: ='ALL GOVERNMENT FUNDS'!A21 -> Liabilities
A28: ='ALL GOVERNMENT FUNDS'!A22 -> A/P | B28: ='ALL GOVERNMENT FUNDS'!B22 -> 1159048 | C28: ='ALL GOVERNMENT FUNDS'!C22 -> 0 | D28: ='ALL GOVERNMENT FUNDS'!D22 -> 985392.95 | E28: ='ALL GOVERNMENT FUNDS'!E22 -> 707350.58 | F28: ='ALL GOVERNMENT FUNDS'!F22 -> 626634.69 | G28: ='ALL GOVERNMENT FUNDS'!G22 -> 3478426.2 | R28: =SUM(G28:Q28) -> 3478426.2
A29: ='ALL GOVERNMENT FUNDS'!A23 -> Accrued Payroll | B29: ='ALL GOVERNMENT FUNDS'!B23 -> 352732.09 | C29: ='ALL GOVERNMENT FUNDS'!C23 -> 0 | D29: ='ALL GOVERNMENT FUNDS'!D23 -> 334225.68 | E29: ='ALL GOVERNMENT FUNDS'!E23 -> 17303.15 | F29: ='ALL GOVERNMENT FUNDS'!F23 -> 44122.01 | G29: ='ALL GOVERNMENT FUNDS'!G23 -> 748382.93 | R29: =SUM(G29:Q29) -> 748382.93
A30: ='ALL GOVERNMENT FUNDS'!A24 -> Due to Other Funds | B30: ='ALL GOVERNMENT FUNDS'!B24 -> 101133.21 | C30: ='ALL GOVERNMENT FUNDS'!C24 -> 0 | D30: ='ALL GOVERNMENT FUNDS'!D24 -> 160355 | E30: ='ALL GOVERNMENT FUNDS'!E24 -> 0 | F30: ='ALL GOVERNMENT FUNDS'!F24 -> 0 | G30: ='ALL GOVERNMENT FUNDS'!G24 -> 261488.21 | Q30: -261488.21 | R30: =SUM(G30:Q30) -> 0
A31: ='ALL GOVERNMENT FUNDS'!A25 -> Due to Other Governments | B31: ='ALL GOVERNMENT FUNDS'!B25 -> 23285.99 | C31: ='ALL GOVERNMENT FUNDS'!C25 -> 0 | D31: ='ALL GOVERNMENT FUNDS'!D25 -> 0 | E31: ='ALL GOVERNMENT FUNDS'!E25 -> 0 | F31: ='ALL GOVERNMENT FUNDS'!F25 -> 0 | G31: ='ALL GOVERNMENT FUNDS'!G25 -> 23285.99 | R31: =SUM(G31:Q31) -> 23285.99
A32: Compensated Absences | B32: 0 | C32: 0 | D32: 0 | E32: 0 | F32: 0 | G32: =SUM(B32:F32) -> 0 | I32: 586940 | R32: =SUM(G32:Q32) -> 586940
A33: Capital Lease - Current | B33: 0 | C33: 0 | D33: 0 | E33: 0 | F33: 0 | G33: =SUM(B33:F33) -> 0 | O33: 175198 | R33: =SUM(G33:Q33) -> 175198
A34: Capital Lease - Long Term | B34: 0 | C34: 0 | D34: 0 | E34: 0 | F34: 0 | G34: =SUM(B34:F34) -> 0 | O34: 374516 | R34: =SUM(G34:Q34) -> 374516
A35: Bonds Payable - Current | B35: 0 | C35: 0 | D35: 0 | E35: 0 | F35: 0 | G35: =SUM(B35:F35) -> 0 | R35: =SUM(G35:Q35) -> 0
A36: Bonds Payable - Long Term | B36: 0 | C36: 0 | D36: 0 | E36: 0 | F36: 0 | G36: =SUM(B36:F36) -> 0 | R36: =SUM(G36:Q36) -> 0
A37: ='ALL GOVERNMENT FUNDS'!A26 -> Deferred Revenue | B37: ='ALL GOVERNMENT FUNDS'!B26 -> 288286.36 | C37: ='ALL GOVERNMENT FUNDS'!C26 -> 0 | D37: ='ALL GOVERNMENT FUNDS'!D26 -> 1843751.9 | E37: ='ALL GOVERNMENT FUNDS'!E26 -> 192971.29 | F37: ='ALL GOVERNMENT FUNDS'!F26 -> 1375874.8 | G37: ='ALL GOVERNMENT FUNDS'!G26 -> 3700884.3 | Q37: -62838.35 | R37: =SUM(G37:Q37) -> 3638046 | S37: 3638044 | T37: =R37-S37 -> 2
A38: ='ALL GOVERNMENT FUNDS'!A27 -> Total Liabilities | B38: ='ALL GOVERNMENT FUNDS'!B27 -> 1924485.6 | C38: ='ALL GOVERNMENT FUNDS'!C27 -> 0 | D38: ='ALL GOVERNMENT FUNDS'!D27 -> 3323725.5 | E38: ='ALL GOVERNMENT FUNDS'!E27 -> 917625.02 | F38: ='ALL GOVERNMENT FUNDS'!F27 -> 2046631.5 | G38: ='ALL GOVERNMENT FUNDS'!G27 -> 8212467.7 | H38: =SUM(H28:H37) -> 0 | I38: =SUM(I28:I37) -> 586940 | J38: =SUM(J28:J37) -> 0 | K38: =SUM(K28:K37) -> 0 | L38: =SUM(L28:L37) -> 0 | M38: =SUM(M28:M37) -> 0 | N38: =SUM(N28:N37) -> 0 | O38: =SUM(O28:O37) -> 549714 | ... Q38: =SUM(Q28:Q37) -> -324326.56 | R38: =SUM(G38:Q38) -> 9024795.1 | S38: =SUM(R28:R37) -> 9024795.1
A40: ='ALL GOVERNMENT FUNDS'!A29 -> Deferred Inflows of Resources:
A41: ='ALL GOVERNMENT FUNDS'!A30 -> Unavailable revenue - taxes/fees | B41: ='ALL GOVERNMENT FUNDS'!B30 -> 1459235 | C41: ='ALL GOVERNMENT FUNDS'!C30 -> 0 | D41: ='ALL GOVERNMENT FUNDS'!D30 -> 0 | E41: ='ALL GOVERNMENT FUNDS'!E30 -> 0 | F41: ='ALL GOVERNMENT FUNDS'!F30 -> 0 | G41: ='ALL GOVERNMENT FUNDS'!G30 -> 1459235 | J41: -291491 | L41: -1230579 | Q41: 62835 | R41: =SUM(G41:Q41) -> 0
A42: ='ALL GOVERNMENT FUNDS'!A31 -> Unavailable revenue - note | B42: ='ALL GOVERNMENT FUNDS'!B31 -> 0 | C42: ='ALL GOVERNMENT FUNDS'!C31 -> 0 | D42: ='ALL GOVERNMENT FUNDS'!D31 -> 0 | E42: ='ALL GOVERNMENT FUNDS'!E31 -> 0 | F42: ='ALL GOVERNMENT FUNDS'!F31 -> 0 | G42: ='ALL GOVERNMENT FUNDS'!G31 -> 0 | R42: =SUM(G42:Q42) -> 0
A43: Deferred Inflow Pension | B43: 0 | C43: 0 | D43: 0 | E43: 0 | F43: 0 | G43: =SUM(B43:F43) -> 0 | P43: 7871417 | R43: =SUM(G43:Q43) -> 7871417
...

Sheet Stmt of Activities - Front
A1: Statement of Activities
A2: Year Ended | B2: ='ALL GOVERNMENT FUNDS'!A3 -> 43830
C4: Program Revenues | F4: Primary Government
A5: Functions/Programs | B5: Expenses | C5: Charges for Services | D5: Operating Grants and Contributions | E5: Captial Grants | F5: Governmental Activities
A6: Primary Government
A7: Government Activities:
A8: General government - administration | B8: ='Front Stmts'!R83 -> 6565712.6 | C8: =C99+W166 -> 761526.97 | D8: =C162+W167 -> 963930.59 | F8: =-B8+C8+D8+E8 -> -4840255.1
A9: General government - judicial | B9: ='Front Stmts'!R84 -> 4007816.2 | C9: =D99+S166+T166+U166+V166+X166+AF166+AG166 -> 1499364.4 | D9: =D162+S167+T167+U167+V167+X167+AF167+AG167 -> 900388.02 | F9: =-B9+C9+D9+E9 -> -1608063.8
A10: Public safety | B10: ='Front Stmts'!R85 -> 6720914.3 | C10: =E99+Q166+AH166 -> 58424.66 | D10: =E162+Q167+AH167 -> 2895421.6 | F10: =-B10+C10+D10+E10 -> -3767068.1
A11: Public works | B11: ='Front Stmts'!R86 -> 1613804.3 | C11: =F99+N166+P166+R166 -> 567509.89 | D11: =F162+N167+P167+R167 -> 1101776.3 | F11: =-B11+C11+D11+E11 -> 55481.9
A12: Human services | B12: ='Front Stmts'!R87 -> 30995083 | C12: =G99+J166+M166+O166+Y166+Z166+AA166+AB166+AC166+AD166 -> 167001.93 | D12: =G162+J167+M167+O167+Y167+Z167+AA167+AB167+AC167+AD167 -> 30426076 | F12: =-B12+C12+D12+E12 -> -402004.36
A13: Conservation and development | B13: ='Front Stmts'!R88 -> 1130900.7 | C13: =H99 -> 18643.18 | D13: =H162 -> 11375 | F13: =-B13+C13+D13+E13 -> -1100882.5
A14: Culture and recreation | B14: ='Front Stmts'!R89 -> 292610.97 | C14: =I99 -> 92356.14 | D14: =I162 -> 25909.8 | F14: =-B14+C14+D14+E14 -> -174345.03
A15: Interest | B15: ='Front Stmts'!R90 -> 4150 | F15: =-B15+C15+D15+E15 -> -4150
A17: Total governmental activities | B17: =SUM(B6:B16) -> 51330992 | C17: =SUM(C6:C16) -> 3164827.1 | D17: =SUM(D6:D16) -> 36324878 | E17: =SUM(E6:E16) -> 0 | F17: =SUM(F6:F16) -> -11841287
D20: General revenues:
D21: Property taxes | F21: ='Front Stmts'!R72-F22 -> 11407220
D22: Other taxes | F22: ='General Fund - Revenue'!G64+'General Fund - Revenue'!H64 -> 291117.95
D23: Interest and investment income | F23: ='Front Stmts'!R77 -> 49547.87
D24: Fines and Forfeits | F24: ='Front Stmts'!R76 -> 382440.01
D25: Licenses | F25: ='Front Stmts'!R73 -> 49720
D26: Lease Revenue | F26: ='Front Stmts'!R78 -> 0
D27: Other | F27: ='Front Stmts'!R79 -> 210794.19
D28: Gain on disposal of capital asset | F28: ='Front Stmts'!R95 -> 29968.61
D30: Total general revenues | F30: =SUM(F20:F29) -> 12420809
D32: Change in Net Position | F32: =F30+F17 -> 579521.75
D34: Net Position:
D35: Beginning of year | F35: 41028966
D36: End of year | F36: =F35+F32 -> 41608488
A40: GENERAL FUND - Charges for Services | C40: **NOTE: If there are adjustments to these accounts on the General Fund-Revenue Sheet…they must be manually adjusted to the following links! You will need to 'unprotect sheet' to adjust.
C41: General Admin | D41: General Judicial | E41: Public Safety | F41: Public Works | G41: Human Services | H41: Conservation | I41: Culture
A42: YEA Government | B42: 1100 | C42: ='General Fund - Revenue'!M7 -> 12478.06
A43: General Government | B43: 1105 | C43: ='General Fund - Revenue'!M8 -> 32088.48
A44: Fiscal | B44: 1135 | C44: ='General Fund - Revenue'!M9 -> 10000
A45: Tax Claim | B45: 1140 | C45: ='General Fund - Revenue'!M10 -> 567144.06
A46: Assessment | B46: 1145 | C46: ='General Fund - Revenue'!M11 -> 13983.09
A47: Telephone | B47: 1152 | C47: ='General Fund - Revenue'!M12 -> 0
A48: MIS | B48: 1155 | C48: ='General Fund - Revenue'!M13 -> 0
A49: Maintenance | B49: 1160 | C49: ='General Fund - Revenue'!M14 -> -1500
A50: Courthouse | B50: 1162 | C50: ='General Fund - Revenue'!M15 -> 0
...

Sheet General Fund
A1: General Fund & Operating Reserve
A2: Combining Balance sheet and Statement of Revenue & Expenses
A3: ='ALL GOVERNMENT FUNDS'!A3 -> 43830
B5: General Fund 1000 | C5: ADJ | D5: Adjusted General Fund | E5: Operating Reserve 1100 | F5: Franklin Tax Collector 7210 | G5: Oil City Tax Collector 7211 | H5: Other Tax Collectors 7212 | I5: Franklin Per Capita 7213 | J5: Tax Claim 7600 | K5: PARK MANAGEMENT2300 | M5: Total General Fund
A7: Assets
A8: Cash & cash equivalents | B8: 5826347.9 | C8: =-72905.8-649596 -> -722501.8 | D8: =B8+C8 -> 5103846.1 | E8: 1231100.1 | F8: 36565.61 | G8: 36120.48 | H8: 52072.26 | I8: 5752.98 | J8: 382156.84 | K8: 1316.91 | M8: =D8+E8+F8+G8+H8+I8+J8+K8+L8 -> 6848931.2
A9: A/R | B9: 396983.38 | D9: =B9+C9 -> 396983.38 | K9: 2193.51 | M9: =D9+E9+F9+G9+H9+I9+J9+K9+L9 -> 399176.89
A10: Taxes Receivable | B10: =403980.44+1587289-397827 -> 1593442.4 | D10: =B10+C10 -> 1593442.4 | F10: -36565.61 | G10: -36120.48 | H10: -52072.26 | I10: -5752.98 | M10: =D10+E10+F10+G10+H10+I10+J10+K10+L10 -> 1462931.1
A11: Due from Component Unit | C11: =11375+283321+649596 -> 944292 | D11: =B11+C11 -> 944292 | M11: =D11+E11+F11+G11+H11+I11+J11+K11+L11 -> 944292
A12: Due from Other Funds | B12: 639417.8 | C12: 12028 | D12: =B12+C12 -> 651445.8 | M12: =D12+E12+F12+G12+H12+I12+J12+K13+L12 -> 651445.8
A13: Due from Other Governments | B13: 78239.87 | D13: =B13+C13 -> 78239.87 | M13: =D13+E13+F13+G13+H13+I13+J13+K14+L13 -> 78239.87
A14: Prepaids | D14: =B14+C14 -> 0 | M14: =D14+E14+F14+G14+H14+I14+J14+K14+L14 -> 0
A15: Total Assets | B15: =SUM(B8:B14) -> 8534431.4 | C15: =SUM(C8:C14) -> 233818.2 | D15: =B15+C15 -> 8768249.6 | E15: =SUM(E8:E14) -> 1231100.1 | F15: =SUM(F8:F14) -> 0 | G15: =SUM(G8:G14) -> 0 | H15: =SUM(H8:H14) -> 0 | I15: =SUM(I8:I14) -> 0 | J15: =SUM(J8:J14) -> 382156.84 | K15: =SUM(K8:K14) -> 3510.42 | M15: =D15+E15+F15+G15+H15+I15+J15+K15+L15 -> 10385017 | N15: =SUM(M8:M14) -> 10385017
A17: Liabilities
A18: A/P | B18: 733322.75 | C18: 66854.37 | D18: =B18+C18 -> 800177.12 | J18: 358870.85 | M18: =D18+E18+F18+G18+H18+I18+J18+K18+L18 -> 1159048 | O18: 1158692 | P18: =M18-O18 -> 355.97
A19: Accrued Payroll | B19: 352732.09 | D19: =B19+C19 -> 352732.09 | M19: =D19+E19+F19+G19+H19+I19+J19+K19+L19 -> 352732.09
A20: Due to Other Funds | B20: 101133.21 | D20: =B20+C20 -> 101133.21 | M20: =D20+E20+F20+G20+H20+I20+J20+K20+L20 -> 101133.21
A21: Due to Other Governments | B21: 66854.37 | C21: -66854.37 | D21: =B21+C21 -> 0 | J21: =J8-J18 -> 23285.99 | M21: =D21+E21+F21+G21+H21+I21+J21+K21+L21 -> 23285.99
A22: Unearned Revenue | B22: 1808399.2 | C22: =-72905.8+12028-1459235 -> -1520112.8 | D22: =B22+C22 -> 288286.36 | M22: =D22+E22+F22+G22+H22+I22+J22+K22+L22 -> 288286.36
A23: Total Liabilities | B23: =SUM(B18:B22) -> 3062441.6 | C23: =SUM(C18:C22) -> -1520112.8 | D23: =B23+C23 -> 1542328.8 | E23: =SUM(E18:E22) -> 0 | F23: =SUM(F18:F22) -> 0 | G23: =SUM(G18:G22) -> 0 | H23: =SUM(H18:H22) -> 0 | I23: =SUM(I18:I22) -> 0 | J23: =SUM(J18:J22) -> 382156.84 | K23: =SUM(K18:K22) -> 0 | M23: =D23+E23+F23+G23+H23+I23+J23+K23+L23 -> 1924485.6 | N23: =SUM(M18:M22) -> 1924485.6
A25: Deferred Inflows of Resources:
A26: Unavailable revenue - taxes/fees | C26: 1459235 | D26: =B26+C26 -> 1459235 | M26: =D26+E26+F26+G26+H26+I26+J26+K26+L26 -> 1459235
A27: Unavailable revenue - lease | D27: =B27+C27 -> 0 | M27: =D27+E27+F27+G27+H27+I27+J27+K27+L27 -> 0
A28: Total Deferred Inflows of Resources | B28: =SUM(B26:B27) -> 0 | C28: =SUM(C26:C27) -> 1459235 | D28: =SUM(D26:D27) -> 1459235 | E28: =SUM(E26:E27) -> 0 | F28: =SUM(F26:F27) -> 0 | G28: =SUM(G26:G27) -> 0 | H28: =SUM(H26:H27) -> 0 | I28: =SUM(I26:I27) -> 0 | ... K28: =SUM(K26:K27) -> 0 | M28: =D28+E28+F28+G28+H28+I28+J28+K28+L28 -> 1459235
A30: Fund Balance
A31: RESTRICTED
A32: Reserved: Program | D32: =B32+C32 -> 0 | M32: =D32+E32+F32+G32+H32+I32+J32+K32+L32 -> 0
A33: Operating Reserve | C33: =283321 -> 283321 | D33: =B33+C33 -> 283321 | E33: 1231100.1 | M33: =D33+E33+F33+G33+H33+I33+J33+K33+L33 -> 1514421.1
A34: Debt Service | D34: =B34+C34 -> 0 | M34: =D34+E34+F34+G34+H34+I34+J34+K34+L34 -> 0
A35: Human Services | D35: =B35+C35 -> 0 | M35: =D35+E35+F35+G35+H35+I35+J35+K35+L35 -> 0
A36: Roads and bridges | D36: =B36+C36 -> 0 | M36: =D36+E36+F36+G36+H36+I36+J36+K36+L36 -> 0
A37: Affordable housing | D37: =B37+C37 -> 0 | M37: =D37+E37+F37+G37+H37+I37+J37+K37+L37 -> 0
A38: Act 13 | D38: =B38+C38 -> 0 | M38: =D38+E38+F38+G38+H38+I38+J38+K38+L38 -> 0
A39: Constable server fees | D39: =B39+C39 -> 0 | M39: =D39+E39+F39+G39+H39+I39+J39+K39+L39 -> 0
A40: Offender identification | D40: =B40+C40 -> 0 | M40: =D40+E40+F40+G40+H40+I40+J40+K40+L40 -> 0
A41: Records improvement/automation | D41: =B41+C41 -> 0 | M41: =D41+E41+F41+G41+H41+I41+J41+K41+L41 -> 0
A42: Sugar Valley Lodge | D42: =B42+C42 -> 0 | M42: =D42+E42+F42+G42+H42+I42+J42+K42+L42 -> 0
A43: Domestic Relations | D43: =B43+C43 -> 0 | M43: =D43+E43+F43+G43+H43+I43+J43+K43+L43 -> 0
A44: Other Purposes | D44: =B44+C44 -> 0 | M44: =D44+E44+F44+G44+H44+I44+J44+K44+L44 -> 0
A45: ASSIGNED | B45: =35384.2 -> 35384.2 | C45: -35384.2 | D45: =B45+C45 -> 0 | M45: =D45+E45+F45+G45+H45+I45+J45+K45+L45 -> 0
...

Sheet General Fund - Revenue
A1: Revenue & Expenses
A2: General Fund
A3: ='ALL GOVERNMENT FUNDS'!A3 -> 43830
F4: TAXES
C5: Income | J5: PROCEEDS FROM | U5: Expenses
A6: Org | B6: Org# | C6: Revenue | D6: Check | E6: Real Estate | F6: Occupational | G6: Per Capita | H6: Hotel Room | I6: Public Utility Realty Tax | J6: Sales | K6: Other | L6: Intergvt | M6: Charges for Services | N6: Fines & Forfeits | O6: Interest | P6: Lease Revenue/Rent | Q6: Licenses | R6: Proceed from Sale | S6: Total Revenue | U6: General Admin | V6: General Judicial | W6: Public Safety | X6: Public Works | Y6: Human services | Z6: Conservation & Development | AA6: Culture & Recreation | AB6: Capital Projects | AC6: Debt Service | AD6: Total Expenses | AF6: Excess/ Deficiency | AG6: Interfund In | AH6: Interfund Out | AI6: TOTAL
A7: YEA Government | B7: 1100 | D7: =SUM(E7:Q7) -> 19027.26 | E7: -1187.82 | G7: =0.35+12.98 -> 13.33 | L7: 5150.81 | M7: 12478.06 | O7: 2392.88 | Q7: 180 | S7: =SUM(E7:R7) -> 19027.26 | U7: 16070.07 | AD7: =SUM(U7:AC7) -> 16070.07 | AF7: =S7-AD7 -> 2957.19 | AI7: =AF7+AG7-AH7 -> 2957.19
A8: General Government | B8: 1105 | D8: =SUM(E8:Q8) -> 11664528 | E8: =10037403.52-881.55+371793.41+839890.39+54655.06+162750.07 -> 11465611 | G8: =118232.6+29715.34 -> 147947.94 | L8: 9677.86 | M8: 32088.48 | O8: 9202.37 | R8: 9448.61 | S8: =SUM(E8:R8) -> 11673976 | U8: -44017.74 | AD8: =SUM(U8:AC8) -> -44017.74 | AF8: =S8-AD8 -> 11717994 | AG8: 2891169.5 | AI8: =AF8+AG8-AH8 -> 14609163
A9: Fiscal | B9: 1135 | D9: =SUM(E9:Q9) -> 10000 | M9: 10000 | S9: =SUM(E9:R9) -> 10000 | U9: 482146.52 | AD9: =SUM(U9:AC9) -> 482146.52 | AF9: =S9-AD9 -> -472146.52 | AG9: 269878.02 | AI9: =AF9+AG9-AH9 -> -202268.5
A10: Tax Claim | B10: 1140 | D10: =SUM(E10:Q10) -> 570610.3 | M10: 567144.06 | O10: 1599.74 | P10: 1866.5 | S10: =SUM(E10:R10) -> 570610.3 | U10: 224580.78 | AD10: =SUM(U10:AC10) -> 224580.78 | AF10: =S10-AD10 -> 346029.52 | AI10: =AF10+AG10-AH10 -> 346029.52
A11: Assessment | B11: 1145 | D11: =SUM(E11:Q11) -> 13983.09 | M11: 13983.09 | S11: =SUM(E11:R11) -> 13983.09 | U11: 372632.43 | AD11: =SUM(U11:AC11) -> 372632.43 | AF11: =S11-AD11 -> -358649.34 | AI11: =AF11+AG11-AH11 -> -358649.34
A12: Telephone | B12: 1152 | D12: =SUM(E12:Q12) -> 0 | S12: =SUM(E12:R12) -> 0 | U12: 22502.63 | AD12: =SUM(U12:AC12) -> 22502.63 | AF12: =S12-AD12 -> -22502.63 | AI12: =AF12+AG12-AH12 -> -22502.63
A13: MIS | B13: 1155 | D13: =SUM(E13:Q13) -> 0 | S13: =SUM(E13:R13) -> 0 | U13: 424299.25 | AD13: =SUM(U13:AC13) -> 424299.25 | AF13: =S13-AD13 -> -424299.25 | AG13: 221610.9 | AI13: =AF13+AG13-AH13 -> -202688.35
A14: Maintenance | B14: 1160 | D14: =SUM(E14:Q14) -> -1500 | M14: -1500 | S14: =SUM(E14:R14) -> -1500 | U14: 428460.37 | AD14: =SUM(U14:AC14) -> 428460.37 | AF14: =S14-AD14 -> -429960.37 | AG14: 133779.32 | AI14: =AF14+AG14-AH14 -> -296181.05
A15: Courthouse | B15: 1162 | D15: =SUM(E15:Q15) -> 11394.75 | L15: 11394.75 | S15: =SUM(E15:R15) -> 11394.75 | U15: 332665.19 | AD15: =SUM(U15:AC15) -> 332665.19 | AF15: =S15-AD15 -> -321270.44 | AI15: =AF15+AG15-AH15 -> -321270.44
A16: Annex | B16: 1164 | D16: =SUM(E16:Q16) -> 0 | S16: =SUM(E16:R16) -> 0 | U16: 71745.69 | AD16: =SUM(U16:AC16) -> 71745.69 | AF16: =S16-AD16 -> -71745.69 | AI16: =AF16+AG16-AH16 -> -71745.69
A17: Human Services Complex | B17: 1166 | D17: =SUM(E17:Q17) -> 0 | S17: =SUM(E17:R17) -> 0 | U17: 2217.53 | AD17: =SUM(U17:AC17) -> 2217.53 | AF17: =S17-AD17 -> -2217.53 | AI17: =AF17+AG17-AH17 -> -2217.53
A18: Exchange Building | B18: 1167 | D18: =SUM(E18:Q18) -> 0 | S18: =SUM(E18:R18) -> 0 | U18: 320090.77 | AD18: =SUM(U18:AC18) -> 320090.77 | AF18: =S18-AD18 -> -320090.77 | AI18: =AF18+AG18-AH18 -> -320090.77
A19: Custodial | B19: 1168 | D19: =SUM(E19:Q19) -> 0 | S19: =SUM(E19:R19) -> 0 | U19: 99496.33 | AD19: =SUM(U19:AC19) -> 99496.33 | AF19: =S19-AD19 -> -99496.33 | AI19: =AF19+AG19-AH19 -> -99496.33
A20: Sugar Valley Buildings | B20: 1169 | D20: =SUM(E20:Q20) -> 82505.06 | L20: 82505.06 | S20: =SUM(E20:R20) -> 82505.06 | U20: 93159.27 | AD20: =SUM(U20:AC20) -> 93159.27 | AF20: =S20-AD20 -> -10654.21 | AI20: =AF20+AG20-AH20 -> -10654.21
A21: Fleet Mgmt | B21: 1171 | D21: =SUM(E21:Q21) -> 0 | S21: =SUM(E21:R21) -> 0 | U21: 15753.24 | AD21: =SUM(U21:AC21) -> 15753.24 | AF21: =S21-AD21 -> -15753.24 | AI21: =AF21+AG21-AH21 -> -15753.24
A22: YEA - Judicial | B22: 1200 | D22: =SUM(E22:Q22) -> 42092.93 | L22: =5150.81-3392.73 -> 1758.08 | M22: 32925.47 | N22: 6414.23 | O22: -4.85 | Q22: 1000 | S22: =SUM(E22:R22) -> 42092.93 | V22: 1865.81 | AD22: =SUM(U22:AC22) -> 1865.81 | AF22: =S22-AD22 -> 40227.12 | AI22: =AF22+AG22-AH22 -> 40227.12
A23: YEA - Public Safety | B23: 1300 | D23: =SUM(E23:Q23) -> -7305.82 | L23: -7305.82 | S23: =SUM(E23:R23) -> -7305.82 | W23: 5882.72 | AD23: =SUM(U23:AC23) -> 5882.72 | AF23: =S23-AD23 -> -13188.54 | AI23: =AF23+AG23-AH23 -> -13188.54
A24: YEA - Public Works | B24: 1400 | D24: =SUM(E24:Q24) -> -5162.22 | M24: =-1365.67-1321.89-374.66 -> -3062.22 | P24: =-900-1600+400 -> -2100 | S24: =SUM(E24:R24) -> -5162.22 | X24: -1833.26 | AD24: =SUM(U24:AC24) -> -1833.26 | AF24: =S24-AD24 -> -3328.96 | AI24: =AF24+AG24-AH24 -> -3328.96
A25: YEA - Human Services | B25: 1500 | D25: =SUM(E25:Q25) -> 0 | S25: =SUM(E25:R25) -> 0 | Y25: -406.36 | AD25: =SUM(U25:AC25) -> -406.36 | AF25: =S25-AD25 -> 406.36 | AI25: =AF25+AG25-AH25 -> 406.36
A26: YEA - Culture & Recreation | B26: 1600 | D26: =SUM(E26:Q26) -> -14590.93 | K26: 2606.59 | L26: -17273.2 | P26: 75.68 | S26: =SUM(E26:R26) -> -14590.93 | AD26: =SUM(U26:AC26) -> 0 | AF26: =S26-AD26 -> -14590.93 | AI26: =AF26+AG26-AH26 -> -14590.93
A27: YEA - Conservvation | B27: 1700 | D27: =SUM(E27:Q27) -> 0 | S27: =SUM(E27:R27) -> 0 | Z27: -429.85 | AD27: =SUM(U27:AC27) -> -429.85 | AF27: =S27-AD27 -> 429.85 | AI27: =AF27+AG27-AH27 -> 429.85
A28: YEA - Other Miscellaneous | D28: =SUM(E28:Q28) -> 0 | S28: =SUM(E28:R28) -> 0 | AD28: =SUM(U28:AC28) -> 0 | AF28: =S28-AD28 -> 0 | AI28: =AF28+AG28-AH28 -> 0
A29: Debt Service | B29: 1905 | D29: =SUM(E29:Q29) -> 0 | S29: =SUM(E29:R29) -> 0 | AD29: =SUM(U29:AC29) -> 0 | AF29: =S29-AD29 -> 0 | AH29: 419150 | AI29: =AF29+AG29-AH29 -> -419150
A30: Courts | B30: 2205 | D30: =SUM(E30:Q30) -> 130689.06 | L30: 91099 | M30: =4412+35178.06 -> 39590.06 | N30: =35178.06-35178.06 -> 0 | S30: =SUM(E30:R30) -> 130689.06 | V30: 596435.52 | AD30: =SUM(U30:AC30) -> 596435.52 | AF30: =S30-AD30 -> -465746.46 | AI30: =AF30+AG30-AH30 -> -465746.46
A31: Domestic Relations | B31: 2210 | D31: =SUM(E31:Q31) -> 7370.32 | M31: 7370.32 | S31: =SUM(E31:R31) -> 7370.32 | V31: 500349.83 | AD31: =SUM(U31:AC31) -> 500349.83 | AF31: =S31-AD31 -> -492979.51 | AG31: 335688.51 | AH31: 60 | AI31: =AF31+AG31-AH31 -> -157351
A32: Law Library | B32: 2215 | D32: =SUM(E32:Q32) -> 0 | S32: =SUM(E32:R32) -> 0 | V32: 51862.61 | AD32: =SUM(U32:AC32) -> 51862.61 | AF32: =S32-AD32 -> -51862.61 | AI32: =AF32+AG32-AH32 -> -51862.61
A33: FISH - DJ | B33: 2225 | D33: =SUM(E33:Q33) -> 50691.72 | M33: 50691.72 | S33: =SUM(E33:R33) -> 50691.72 | V33: 127531.76 | AD33: =SUM(U33:AC33) -> 127531.76 | AF33: =S33-AD33 -> -76840.04 | AI33: =AF33+AG33-AH33 -> -76840.04
A34: Dinberg - DJ | B34: 2230 | D34: =SUM(E34:Q34) -> 0 | S34: =SUM(E34:R34) -> 0 | AD34: =SUM(U34:AC34) -> 0 | AF34: =S34-AD34 -> 0 | AI34: =AF34+AG34-AH34 -> 0
A35: Lowrey - DJ | B35: 2235 | D35: =SUM(E35:Q35) -> 53585.5 | M35: 53585.5 | S35: =SUM(E35:R35) -> 53585.5 | V35: 138223.59 | AD35: =SUM(U35:AC35) -> 138223.59 | AF35: =S35-AD35 -> -84638.09 | AI35: =AF35+AG35-AH35 -> -84638.09
A36: Kirtland - DJ | B36: 2240 | D36: =SUM(E36:Q36) -> 82019.07 | M36: 82019.07 | S36: =SUM(E36:R36) -> 82019.07 | V36: 139722.16 | AD36: =SUM(U36:AC36) -> 139722.16 | AF36: =S36-AD36 -> -57703.09 | AI36: =AF36+AG36-AH36 -> -57703.09
A37: Court Supervision | B37: 2310 | D37: =SUM(E37:Q37) -> 251229.17 | L37: 11923.56 | M37: =2490.54+174672.09 -> 177162.63 | N37: =234926.98-174672.09 -> 60254.89 | P37: 1888.09 | S37: =SUM(E37:R37) -> 251229.17 | W37: 653987.27 | AD37: =SUM(U37:AC37) -> 653987.27 | AF37: =S37-AD37 -> -402758.1 | AI37: =AF37+AG37-AH37 -> -402758.1
A38: Juevenile Court | B38: 2311 | D38: =SUM(E38:Q38) -> 130395.96 | L38: =7233.66+116629+3388 -> 127250.66 | M38: 1338.33 | N38: 1610.72 | P38: 196.25 | S38: =SUM(E38:R38) -> 130395.96 | W38: 480001.86 | AD38: =SUM(U38:AC38) -> 480001.86 | AF38: =S38-AD38 -> -349605.9 | AG38: 2285 | AH38: 40 | AI38: =AF38+AG38-AH38 -> -347360.9
A39: Prison | B39: 3305 | D39: =SUM(E39:Q39) -> 132978.79 | K39: 71988.66 | M39: =36472.59+202.07 -> 36674.66 | N39: =202.07-202.07 -> 0 | P39: 24315.47 | S39: =SUM(E39:R39) -> 132978.79 | W39: 2992508.9 | AD39: =SUM(U39:AC39) -> 2992508.9 | AF39: =S39-AD39 -> -2859530.1 | AG39: =105303.66-71988.66 -> 33315 | AI39: =AF39+AG39-AH39 -> -2826215.1
A40: EMA - 911 Building | B40: 4315 | D40: =SUM(E40:Q40) -> 0 | S40: =SUM(E40:R40) -> 0 | W40: 37969.15 | AD40: =SUM(U40:AC40) -> 37969.15 | AF40: =S40-AD40 -> -37969.15 | AI40: =AF40+AG40-AH40 -> -37969.15
...

Sheet Capital Projects Fund
A1: Capital Projects Fund
A2: Combining Balance sheet and Statement of Revenue & Expenses
A3: ='ALL GOVERNMENT FUNDS'!A3 -> 43830 | C3: check categories
B5: Capital Projects 3000 | C5: Debt Service 4000 | D5: Debt Service 4100 | E5: 2010 Debt Service 4300 | F5: Adjustments | G5: Adjusted 2010 Debt Service 4300 | H5: TOTAL Capital Projects
A7: Assets
A8: Cash & cash equivalents | B8: -139518 | C8: 0 | D8: 0 | E8: 0 | G8: =E8+F8 -> 0 | H8: =SUM(B8+C8+D8+G8) -> -139518
A9: A/R | G9: =E9+F9 -> 0 | H9: =SUM(B9+C9+D9+G9) -> 0
A10: Due from Other Funds | G10: =E10+F10 -> 0 | H10: =SUM(B10+C10+D10+G10) -> 0
A11: Due from Other Governments | G11: =E11+F11 -> 0 | H11: =SUM(B11+C11+D11+G11) -> 0
A12: Prepaids | G12: =E12+F12 -> 0 | H12: =SUM(B12+C12+D12+G12) -> 0
A13: Lease Receivable/Other | G13: =E13+F13 -> 0 | H13: =SUM(B13+C13+D13+G13) -> 0
A14: Total Assets | B14: =SUM(B8:B13) -> -139518 | C14: =SUM(C8:C13) -> 0 | D14: =SUM(D8:D13) -> 0 | E14: =SUM(E8:E13) -> 0 | F14: =SUM(F8:F13) -> 0 | G14: =E14+F14 -> 0 | H14: =SUM(B14+C14+D14+G14) -> -139518
A16: Liabilities
A17: A/P | G17: =E17+F17 -> 0 | H17: =SUM(B17+C17+D17+G17) -> 0
A18: Accrued Payroll | G18: =E18+F18 -> 0 | H18: =SUM(B18+C18+D18+G18) -> 0
A19: Due to Other Governments | G19: =E19+F19 -> 0 | H19: =SUM(B19+C19+D19+G19) -> 0
A20: Deferred Revenue | G20: =E20+F20 -> 0 | H20: =SUM(B20+C20+D20+G20) -> 0
A21: Total Liabilities | B21: =SUM(B17:B20) -> 0 | C21: =SUM(C17:C20) -> 0 | D21: =SUM(D17:D20) -> 0 | E21: =SUM(E17:E20) -> 0 | F21: =SUM(F17:F20) -> 0 | G21: =E21+F21 -> 0 | H21: =SUM(B21+C21+D21+G21) -> 0
A23: Deferred Inflows of Resources:
A24: Unavailable revenue - taxes/fees | G24: =E24+F24 -> 0 | H24: =SUM(B24+C24+D24+G24) -> 0
A25: Unavailable revenue - lease | G25: =E25+F25 -> 0 | H25: =SUM(B25+C25+D25+G25) -> 0
A26: Total Deferred Inflows | B26: =SUM(B24:B25) -> 0 | C26: =SUM(C24:C25) -> 0 | D26: =SUM(D24:D25) -> 0 | E26: =SUM(E24:E25) -> 0 | F26: =SUM(F24:F25) -> 0 | G26: =E26+F26 -> 0 | H26: =SUM(B26+C26+D26+G26) -> 0
A28: Fund Balance
A29: Reserved: Program | G29: =E29+F29 -> 0 | H29: =SUM(B29+C29+D29+G29) -> 0
A30: Reserved: Prepaids | G30: =E30+F30 -> 0 | H30: =SUM(B30+C30+D30+G30) -> 0
A31: Unreserved | B31: -139518 | G31: =E31+F31 -> 0 | H31: =SUM(B31+C31+D31+G31) -> -139518
A32: Total Fund Balance | B32: =SUM(B29:B31) -> -139518 | C32: =SUM(C29:C31) -> 0 | D32: =SUM(D29:D31) -> 0 | E32: =SUM(E29:E31) -> 0 | F32: =SUM(F29:F31) -> 0 | G32: =E32+F32 -> 0 | H32: =SUM(B32+C32+D32+G32) -> -139518
A34: Total Liabilities & Fund Balance | B34: =B21+B26+B32 -> -139518 | C34: =C21+C26+C32 -> 0 | D34: =D21+D26+D32 -> 0 | E34: =E21+E26+E32 -> 0 | F34: =F21+F26+F32 -> 0 | G34: =G21+G26+G32 -> 0 | H34: =H21+H26+H32 -> -139518
B35: =IF(B14=B34,"YES","NO") -> YES | C35: =IF(C14=C34,"YES","NO") -> YES | D35: =IF(D14=D34,"YES","NO") -> YES | E35: =IF(E14=E34,"YES","NO") -> YES | F35: =IF(F14=F34,"YES","NO") -> YES | G35: =IF(G14=G34,"YES","NO") -> YES | H35: =IF(H14=H34,"YES","NO") -> YES
A36: Revenue
A37: Intergovermental | G37: =E37+F37 -> 0 | H37: =SUM(B37:F37) -> 0
A38: Charges for Services | G38: =E38+F38 -> 0 | H38: =SUM(B38:F38) -> 0
A39: Lease Revenue | G39: =E39+F39 -> 0 | H39: =SUM(B39:F39) -> 0
A40: Interest | B40: 322.43 | C40: 247.31 | E40: 1.1 | G40: =E40+F40 -> 1.1 | H40: =SUM(B40:F40) -> 570.84
A41: Lease Revenue | G41: =E41+F41 -> 0 | H41: =SUM(B41:F41) -> 0
A42: Other | G42: =E42+F42 -> 0 | H42: =SUM(B42:F42) -> 0
A43: Total Revenues | B43: =SUM(B37:B42) -> 322.43 | C43: =SUM(C37:C42) -> 247.31 | D43: =SUM(D37:D42) -> 0 | E43: =SUM(E37:E42) -> 1.1 | F43: =SUM(F37:F42) -> 0 | G43: =SUM(G37:G42) -> 1.1 | H43: =SUM(B43:F43) -> 570.84
A45: Expenditures
A46: General gvt - administration | B46: 382039 | G46: =E46+F46 -> 0 | H46: =SUM(B46:F46) -> 382039
A47: General gvt - judicial | G47: =E47+F47 -> 0 | H47: =SUM(B47:F47) -> 0
...

Sheet Human Services
A1: Human Services Funds
A2: Combining Balance sheet and Statement of Revenue & Expenses
A3: ='ALL GOVERNMENT FUNDS'!A3 -> 43830 | G3: Developmental
G4: Services
B5: AAA Funds | C5: RSVP Funds | D5: CYS Funds | E5: Substance Abuse Funds | F5: Mental Health Funds | G5: Mental Retardation Funds | H5: Eliminations | I5: Total Human Services
A7: Assets
A8: Cash & cash equivalents | B8: ='AAA Funds'!F8 -> 443570.84 | C8: ='RSVP Funds'!F8 -> 18972.54 | D8: ='CYS Funds'!R8 -> -1145105.2 | E8: ='Substance Abuse'!I8 -> 312232.63 | F8: ='Mental Health Funds'!K8 -> -107731.85 | G8: ='Mental Retardation Funds'!O8 -> 1302991.5 | I8: =SUM(B8:H8) -> 824930.46
A9: Advances Receivable | B9: ='AAA Funds'!F9 -> 0 | C9: ='RSVP Funds'!F9 -> 0 | D9: ='CYS Funds'!R9 -> 0 | E9: ='Substance Abuse'!I9 -> 0 | F9: ='Mental Health Funds'!K9 -> 0 | G9: ='Mental Retardation Funds'!O9 -> 0 | I9: =SUM(B9:H9) -> 0
A10: A/R | B10: ='AAA Funds'!F10 -> 480.84 | C10: ='RSVP Funds'!F10 -> 0 | D10: ='CYS Funds'!R10 -> 719055.57 | E10: ='Substance Abuse'!I10 -> 198246.05 | F10: ='Mental Health Funds'!K10 -> 93271.3 | G10: ='Mental Retardation Funds'!O10 -> 90442.4 | I10: =SUM(B10:H10) -> 1101496.2
A11: Due from Other Funds | B11: ='AAA Funds'!F11 -> 15859.98 | C11: ='RSVP Funds'!F11 -> 0 | D11: ='CYS Funds'!R11 -> 30205.68 | E11: ='Substance Abuse'!I11 -> 9333.78 | F11: ='Mental Health Funds'!K11 -> 18881.47 | G11: ='Mental Retardation Funds'!O11 -> 17468.62 | I11: =SUM(B11:H11) -> 91749.53
A12: Due from Other Governments | B12: ='AAA Funds'!F12 -> 39484.35 | C12: ='RSVP Funds'!F12 -> 0 | D12: ='CYS Funds'!R12 -> 1379505.5 | E12: ='Substance Abuse'!I12 -> 4809.12 | F12: ='Mental Health Funds'!K12 -> 227160.1 | G12: ='Mental Retardation Funds'!O12 -> 0 | I12: =SUM(B12:H12) -> 1650959.1
A13: Prepaids | B13: ='AAA Funds'!F13 -> -2 | C13: ='RSVP Funds'!F13 -> 0 | D13: ='CYS Funds'!R13 -> 0 | E13: ='Substance Abuse'!I13 -> 0 | F13: ='Mental Health Funds'!K13 -> 0 | G13: ='Mental Retardation Funds'!O13 -> 0 | I13: =SUM(B13:H13) -> -2
A14: Total Assets | B14: ='AAA Funds'!F14 -> 499394.01 | C14: ='RSVP Funds'!F14 -> 18972.54 | D14: ='CYS Funds'!R14 -> 983661.61 | E14: ='Substance Abuse'!I14 -> 524621.58 | F14: ='Mental Health Funds'!K14 -> 231581.02 | G14: ='Mental Retardation Funds'!O14 -> 1410902.5 | I14: =SUM(B14:H14) -> 3669133.2
A16: Liabilities
A17: A/P | B17: ='AAA Funds'!F17 -> 96532.2 | C17: ='RSVP Funds'!F17 -> 0 | D17: ='CYS Funds'!R17 -> 636649.71 | E17: ='Substance Abuse'!I17 -> 47925.18 | F17: ='Mental Health Funds'!K17 -> 126854.42 | G17: ='Mental Retardation Funds'!O17 -> 77431.44 | I17: =SUM(B17:H17) -> 985392.95
A18: Accrued Payroll | B18: ='AAA Funds'!F18 -> 64447.23 | C18: ='RSVP Funds'!F18 -> 0 | D18: ='CYS Funds'!R18 -> 155087.74 | E18: ='Substance Abuse'!I18 -> 31983.91 | F18: ='Mental Health Funds'!K18 -> 46198.45 | G18: ='Mental Retardation Funds'!O18 -> 36508.35 | I18: =SUM(B18:H18) -> 334225.68
A19: Due to Other Funds | B19: ='AAA Funds'!F19 -> 0 | C19: ='RSVP Funds'!F19 -> 0 | D19: ='CYS Funds'!R19 -> 160355 | E19: ='Substance Abuse'!I19 -> 0 | F19: ='Mental Health Funds'!K19 -> 0 | G19: ='Mental Retardation Funds'!O19 -> 0 | I19: =SUM(B19:H19) -> 160355
A20: Due to Other Governments | B20: ='AAA Funds'!F20 -> 0 | C20: ='RSVP Funds'!F20 -> 0 | D20: ='CYS Funds'!R20 -> 0 | E20: ='Substance Abuse'!I20 -> 0 | F20: ='Mental Health Funds'!K20 -> 0 | G20: ='Mental Retardation Funds'!O20 -> 0 | I20: =SUM(B20:H20) -> 0
A21: Deferred Revenue | B21: ='AAA Funds'!F21 -> 338415.29 | C21: ='RSVP Funds'!F21 -> 327.41 | D21: ='CYS Funds'!R21 -> -0.46 | E21: ='Substance Abuse'!I21 -> 149519.09 | F21: ='Mental Health Funds'!K21 -> 58528.61 | G21: ='Mental Retardation Funds'!O21 -> 1296961.9 | I21: =SUM(B21:H21) -> 1843751.9
A22: Total Liabilities | B22: ='AAA Funds'!F22 -> 499394.72 | C22: ='RSVP Funds'!F22 -> 327.41 | D22: ='CYS Funds'!R22 -> 952091.99 | E22: ='Substance Abuse'!I22 -> 229428.18 | F22: ='Mental Health Funds'!K22 -> 231581.48 | G22: ='Mental Retardation Funds'!O22 -> 1410901.7 | H22: =SUM(H17:H21) -> 0 | I22: =SUM(B22:H22) -> 3323725.5
A24: Fund Balance
A25: Reserved: Program | B25: ='AAA Funds'!F25 -> 37.16 | C25: ='RSVP Funds'!F25 -> 0 | D25: ='CYS Funds'!R25 -> 0 | E25: ='Substance Abuse'!I25 -> 0 | F25: ='Mental Health Funds'!K25 -> 0 | G25: ='Mental Retardation Funds'!O25 -> 255.57 | I25: =SUM(B25:H25) -> 292.73
A26: Reserved: Prepaids | B26: ='AAA Funds'!F26 -> 0 | C26: ='RSVP Funds'!F26 -> 0 | D26: ='CYS Funds'!R26 -> 0 | E26: ='Substance Abuse'!I26 -> 0 | F26: ='Mental Health Funds'!K26 -> 0 | G26: ='Mental Retardation Funds'!O26 -> 0 | I26: =SUM(B26:H26) -> 0
A27: Unreserved | B27: ='AAA Funds'!F27 -> -37.87 | C27: ='RSVP Funds'!F27 -> 18645.13 | D27: ='CYS Funds'!R27 -> 31569.62 | E27: ='Substance Abuse'!I27 -> 295193.4 | F27: ='Mental Health Funds'!K27 -> -0.46 | G27: ='Mental Retardation Funds'!O27 -> -254.8 | I27: =SUM(B27:H27) -> 345115.02
A28: Total Fund Balance | B28: ='AAA Funds'!F28 -> -0.71 | C28: ='RSVP Funds'!F28 -> 18645.13 | D28: ='CYS Funds'!R28 -> 31569.62 | E28: ='Substance Abuse'!I28 -> 295193.4 | F28: ='Mental Health Funds'!K28 -> -0.46 | G28: ='Mental Retardation Funds'!O28 -> 0.77 | H28: =SUM(H25:H27) -> 0 | I28: =SUM(B28:H28) -> 345407.75
A30: Total Liabilities & Fund Balance | B30: ='AAA Funds'!F30 -> 499394.01 | C30: ='RSVP Funds'!F30 -> 18972.54 | D30: ='CYS Funds'!R30 -> 983661.61 | E30: ='Substance Abuse'!I30 -> 524621.58 | F30: ='Mental Health Funds'!K30 -> 231581.02 | G30: ='Mental Retardation Funds'!O30 -> 1410902.5 | H30: ='Human Services 1150'!E30 -> 0 | I30: =SUM(B30:H30) -> 3669133.2
B31: =IF(B14=B30,"YES","NO") -> YES | C31: =IF(C14=C30,"YES","NO") -> YES | D31: =IF(D14=D30,"YES","NO") -> YES | E31: =IF(E14=E30,"YES","NO") -> YES | F31: =IF(F14=F30,"YES","NO") -> YES | G31: =IF(G14=G30,"YES","NO") -> YES | H31: =IF(H14=H30,"YES","NO") -> YES | I31: =IF(I14=I30,"YES","NO") -> YES
A32: Revenue
A33: Intergovermental | B33: ='AAA Funds'!F33 -> 2156136.7 | C33: ='RSVP Funds'!F33 -> 0 | D33: ='CYS Funds'!R33 -> 8696597.3 | E33: ='Substance Abuse'!I33 -> 992313.97 | F33: ='Mental Health Funds'!K33 -> 3183819.4 | G33: ='Mental Retardation Funds'!O33 -> 2003109.8 | I33: =SUM(B33:H33) -> 17031977
A34: Charges for Services | B34: ='AAA Funds'!F34 -> 0 | C34: ='RSVP Funds'!F34 -> 0 | D34: ='CYS Funds'!R34 -> 120623.77 | E34: ='Substance Abuse'!I34 -> 0 | F34: ='Mental Health Funds'!K34 -> 0 | G34: ='Mental Retardation Funds'!O34 -> 0 | I34: =SUM(B34:H34) -> 120623.77
A35: Fines and Forfeits | B35: ='AAA Funds'!F35 -> 0 | C35: ='RSVP Funds'!F35 -> 0 | D35: ='CYS Funds'!R35 -> 0 | E35: ='Substance Abuse'!I35 -> 226556.83 | F35: ='Mental Health Funds'!K35 -> 0 | G35: ='Mental Retardation Funds'!O35 -> 8432.12 | I35: =SUM(B35:H35) -> 234988.95
A36: Interest | B36: ='AAA Funds'!F36 -> 1171.5 | C36: ='RSVP Funds'!F36 -> 38.21 | D36: ='CYS Funds'!R36 -> 86.17 | E36: ='Substance Abuse'!I36 -> 828.22 | F36: ='Mental Health Funds'!K36 -> 42.98 | G36: ='Mental Retardation Funds'!O36 -> 4294.77 | I36: =SUM(B36:H36) -> 6461.85
A37: Other | B37: ='AAA Funds'!F37 -> 820 | C37: ='RSVP Funds'!F37 -> 0 | D37: ='CYS Funds'!R37 -> 242773.96 | E37: ='Substance Abuse'!I37 -> 0 | F37: ='Mental Health Funds'!K37 -> 53601.34 | G37: ='Mental Retardation Funds'!O37 -> 17158 | I37: =SUM(B37:H37) -> 314353.3
A38: Total Revenues | B38: ='AAA Funds'!F38 -> 2158128.2 | C38: ='RSVP Funds'!F38 -> 38.21 | D38: ='CYS Funds'!R38 -> 9060081.2 | E38: ='Substance Abuse'!I38 -> 1219699 | F38: ='Mental Health Funds'!K38 -> 3237463.7 | G38: ='Mental Retardation Funds'!O38 -> 2032994.7 | I38: =SUM(B38:H38) -> 17708405
A40: Expenditures
A41: General gvt - administration | B41: ='AAA Funds'!F41 -> 0 | C41: ='RSVP Funds'!F41 -> 0 | D41: ='CYS Funds'!R41 -> 0 | E41: ='Substance Abuse'!I41 -> 0 | F41: ='Mental Health Funds'!K41 -> 0 | G41: ='Mental Retardation Funds'!O41 -> 0 | I41: =SUM(B41:H41) -> 0
A42: General gvt - judicial | B42: ='AAA Funds'!F42 -> 0 | C42: ='RSVP Funds'!F42 -> 0 | D42: ='CYS Funds'!R42 -> 0 | E42: ='Substance Abuse'!I42 -> 0 | F42: ='Mental Health Funds'!K42 -> 0 | G42: ='Mental Retardation Funds'!O42 -> 0 | I42: =SUM(B42:H42) -> 0
A43: Public safety | B43: ='AAA Funds'!F43 -> 0 | C43: ='RSVP Funds'!F43 -> 0 | D43: ='CYS Funds'!R43 -> 0 | E43: ='Substance Abuse'!I43 -> 0 | F43: ='Mental Health Funds'!K43 -> 0 | G43: ='Mental Retardation Funds'!O43 -> 0 | I43: =SUM(B43:H43) -> 0
A44: Public works and enterprises | B44: ='AAA Funds'!F44 -> 0 | C44: ='RSVP Funds'!F44 -> 0 | D44: ='CYS Funds'!R44 -> 0 | E44: ='Substance Abuse'!I44 -> 0 | F44: ='Mental Health Funds'!K44 -> 0 | G44: ='Mental Retardation Funds'!O44 -> 0 | I44: =SUM(B44:H44) -> 0
A45: Human services | B45: ='AAA Funds'!F45 -> 2066166.9 | C45: ='RSVP Funds'!F45 -> 0 | D45: ='CYS Funds'!R45 -> 9847797.9 | E45: ='Substance Abuse'!I45 -> 1175131.6 | F45: ='Mental Health Funds'!K45 -> 3115553.2 | G45: ='Mental Retardation Funds'!O45 -> 1891924.3 | I45: =SUM(B45:H45) -> 18096574
...

Sheet Other Government
A1: Other Governmental Funds
A2: Combining Balance sheet and Statement of Revenue & Expenses
A3: ='ALL GOVERNMENT FUNDS'!A3 -> 43830
B5: Liquid Fuels 2000 | C5: Affordable Housing 2020 | D5: Airport 2100/2150/ 2050 | E5: Hazmat 2200 | F5: Planning/ Marcellus 2790 | G5: Register and Recorder 2770 | I5: Court Constable 2400 | J5: Adj for Court Constable | K5: Adj Court Constable | L5: Offender ID 2450 | M5: Juevenile Court 2460 | N5: County Records 2750 | O5: Prothonotary 2760 | P5: Adjustments to Prothonotary | Q5: Adj Prothonotary | R5: CDBG 1720/2579 | S5: CSBG 1710 | T5: ADJ | U5: Adjusted CSBG | V5: OEO-SWP 1730 | W5: ADJ | X5: Adjusted OEO-SWP | Y5: OEO Weather 1900/1910/1920 | Z5: OEO-Other 1740-1790 | AA5: Transportation 1810/1820/1830/1840/7580 & 7581/7582 | AB5: Special Purpose 7100/7150/ 7540 | AD5: Adoption 7250 | AE5: Domestic Relations 7700 | AF5: ADJ | AG5: Adjusted Domestic Relations | AH5: 911 2252/2250 | AI5: TOTAL OTHER GVT
A7: Assets
A8: Cash & cash equivalents | B8: 1396466.5 | C8: 16237.4 | D8: ='Airport Funds'!I8 -> -217577.51 | E8: 84740.23 | F8: 339366.45 | G8: 43126.07 | I8: 311827.72 | K8: =SUM(I8:J8) -> 311827.72 | L8: 480086.37 | M8: 9179.02 | N8: 35588.52 | O8: 17874.33 | Q8: =SUM(O8:P8) -> 17874.33 | R8: =CDBG!H8 -> -65191.91 | S8: -40120.31 | U8: =S8+T8 -> -40120.31 | V8: -72502.26 | X8: =V8+W8 -> -72502.26 | Y8: ='OEO-Weatherization'!H8 -> 30141.61 | Z8: ='OEO-Other'!Y8 -> 729552.05 | AA8: ='Transportation Fund'!Y8 -> -206733.41 | AB8: ='Special Purpose '!E8 -> 173884.34 | AD8: 11261.01 | AE8: 738564.24 | AG8: =AE8+AF8 -> 738564.24 | AH8: ='911'!H8 -> 564948.45 | AI8: =B8+C8+D8+E8+F8+G8+K8+L8+M8+N8+Q8+R8+U8+X8+Y8+Z8+AA8+AB8+AD8+AG8+AH8 -> 4380719
A9: A/R | D9: ='Airport Funds'!I9 -> 439142.49 | E9: 1375 | K9: =SUM(I9:J9) -> 0 | Q9: =SUM(O9:P9) -> 0 | R9: =CDBG!H9 -> 0 | S9: =99444-99444 -> 0 | U9: =S9+T9 -> 0 | V9: 80457.25 | X9: =V9+W9 -> 80457.25 | Y9: ='OEO-Weatherization'!H9 -> 1501 | Z9: ='OEO-Other'!Y9 -> 9114.66 | AA9: ='Transportation Fund'!Y9 -> 0 | AB9: ='Special Purpose '!E9 -> 0 | AE9: 134039 | AG9: =AE9+AF9 -> 134039 | AH9: ='911'!H9 -> 372561.74 | AI9: =B9+C9+D9+E9+F9+G9+K9+L9+M9+N9+Q9+R9+U9+X9+Y9+Z9+AA9+AB9+AD9+AG9+AH9 -> 1038191.1
A10: Due from Other Funds | C10: 8398.17 | D10: ='Airport Funds'!I10 -> 0 | I10: 556.82 | K10: =SUM(I10:J10) -> 556.82 | L10: 5797.04 | M10: 142.94 | O10: 568.27 | Q10: =SUM(O10:P10) -> 568.27 | R10: =CDBG!H10 -> 0 | S10: 3256.84 | U10: =S10+T10 -> 3256.84 | V10: 1094.5 | X10: =V10+W10 -> 1094.5 | Y10: ='OEO-Weatherization'!H10 -> 1458.2 | Z10: ='OEO-Other'!Y10 -> 4781.33 | AA10: ='Transportation Fund'!Y10 -> 1343.58 | AB10: ='Special Purpose '!E10 -> 0 | AG10: =AE10+AF10 -> 0 | AH10: ='911'!H10 -> 0 | AI10: =B10+C10+D10+E10+F10+G10+K10+L10+M10+N10+Q10+R10+U10+X10+Y10+Z10+AA10+AB10+AD10+AG10+AH10 -> 27397.69
A11: Due from Other Governments | D11: ='Airport Funds'!I11 -> 0 | K11: =SUM(I11:J11) -> 0 | Q11: =SUM(O11:P11) -> 0 | R11: =CDBG!H11 -> 123446.76 | S11: 99444 | U11: =S11+T11 -> 99444 | X11: =V11+W11 -> 0 | Y11: ='OEO-Weatherization'!H11 -> 2641 | Z11: ='OEO-Other'!Y11 -> 12668.97 | AA11: ='Transportation Fund'!Y11 -> 315494.23 | AB11: ='Special Purpose '!E11 -> 0 | AE11: =134039-134039 -> 0 | AG11: =AE11+AF11 -> 0 | AH11: ='911'!H11 -> 0 | AI11: =B11+C11+D11+E11+F11+G11+K11+L11+M11+N11+Q11+R11+U11+X11+Y11+Z11+AA11+AB11+AD11+AG11+AH11 -> 553694.96
A12: Prepaids | D12: ='Airport Funds'!I12 -> 69415.11 | K12: =SUM(I12:J12) -> 0 | Q12: =SUM(O12:P12) -> 0 | R12: =CDBG!H12 -> 0 | S12: =3256.84-3256.84 -> 0 | U12: =S12+T12 -> 0 | V12: =1094.5-1094.5 -> 0 | X12: =V12+W12 -> 0 | Y12: ='OEO-Weatherization'!H12 -> 0 | Z12: ='OEO-Other'!Y12 -> 0 | AA12: ='Transportation Fund'!Y12 -> 0 | AB12: ='Special Purpose '!E12 -> 3000 | AG12: =AE12+AF12 -> 0 | AH12: ='911'!H12 -> 0 | AI12: =B12+C12+D12+E12+F12+G12+K12+L12+M12+N12+Q12+R12+U12+X12+Y12+Z12+AA12+AB12+AD12+AG12+AH12 -> 72415.11
A13: Total Assets | B13: =SUM(B8:B12) -> 1396466.5 | C13: =SUM(C8:C12) -> 24635.57 | D13: ='Airport Funds'!I13 -> 290980.09 | E13: =SUM(E8:E12) -> 86115.23 | F13: =SUM(F8:F12) -> 339366.45 | G13: =SUM(G8:G12) -> 43126.07 | I13: =SUM(I8:I12) -> 312384.54 | J13: =SUM(J8:J12) -> 0 | K13: =SUM(K8:K12) -> 312384.54 | L13: =SUM(L8:L12) -> 485883.41 | M13: =SUM(M8:M12) -> 9321.96 | N13: =SUM(N8:N12) -> 35588.52 | O13: =SUM(O8:O12) -> 18442.6 | P13: =SUM(P8:P12) -> 0 | Q13: =SUM(O13:P13) -> 18442.6 | R13: =CDBG!H13 -> 58254.85 | S13: =ROUND(SUM(S8:S12),2) -> 62580.53 | T13: =SUM(T8:T12) -> 0 | U13: =S13+T13 -> 62580.53 | V13: =SUM(V8:V12) -> 9049.49 | W13: =SUM(W8:W12) -> 0 | X13: =V13+W13 -> 9049.49 | Y13: ='OEO-Weatherization'!H13 -> 35741.81 | Z13: ='OEO-Other'!Y13 -> 756117.01 | AA13: ='Transportation Fund'!Y13 -> 110104.4 | AB13: ='Special Purpose '!E13 -> 176884.34 | AD13: =SUM(AD8:AD12) -> 11261.01 | AE13: =SUM(AE8:AE12) -> 872603.24 | AF13: =SUM(AF8:AF12) -> 0 | AG13: =AE13+AF13 -> 872603.24 | AH13: ='911'!H13 -> 937510.19 | AI13: =B13+C13+D13+E13+F13+G13+K13+L13+M13+N13+Q13+R13+U13+X13+Y13+Z13+AA13+AB13+AD13+AG13+AH13 -> 6072417.9
K14: =SUM(I14:J14) -> 0 | Q14: =SUM(O14:P14) -> 0
A15: Liabilities | K15: =SUM(I15:J15) -> 0 | Q15: =SUM(O15:P15) -> 0
A16: A/P | B16: 5812.5 | D16: ='Airport Funds'!I16 -> 229723.3 | I16: 1076.23 | K16: =SUM(I16:J16) -> 1076.23 | L16: 40.04 | N16: 707.07 | Q16: =SUM(O16:P16) -> 0 | R16: =CDBG!H16 -> 0 | S16: 18530.7 | U16: =S16+T16 -> 18530.7 | V16: 7230.77 | X16: =V16+W16 -> 7230.77 | Y16: ='OEO-Weatherization'!H16 -> 29.42 | Z16: ='OEO-Other'!Y16 -> 59539.05 | AA16: ='Transportation Fund'!Y16 -> 108763.73 | AB16: ='Special Purpose '!E16 -> 0 | AG16: =AE16+AF16 -> 0 | AH16: ='911'!H16 -> 195181.88 | AI16: =B16+C16+D16+E16+F16+G16+K16+L16+M16+N16+Q16+R16+U16+X16+Y16+Z16+AA16+AB16+AD16+AG16+AH16 -> 626634.69
A17: Accrued Payroll | D17: ='Airport Funds'!I17 -> 0 | K17: =SUM(I17:J17) -> 0 | Q17: =SUM(O17:P17) -> 0 | R17: =CDBG!H17 -> 0 | S17: 5468.34 | U17: =S17+T17 -> 5468.34 | V17: 714.14 | X17: =V17+W17 -> 714.14 | Y17: ='OEO-Weatherization'!H17 -> 157.06 | Z17: ='OEO-Other'!Y17 -> 15227.76 | AA17: ='Transportation Fund'!Y17 -> 1340.79 | AB17: ='Special Purpose '!E17 -> 0 | AG17: =AE17+AF17 -> 0 | AH17: ='911'!H17 -> 21213.92 | AI17: =B17+C17+D17+E17+F17+G17+K17+L17+M17+N17+Q17+R17+U17+X17+Y17+Z17+AA17+AB17+AD17+AG17+AH17 -> 44122.01
A18: Due to other Funds | D18: ='Airport Funds'!I18 -> 0 | K18: =SUM(I18:J18) -> 0 | Q18: =SUM(O18:P18) -> 0 | R18: =CDBG!H18 -> 0 | U18: =S18+T18 -> 0 | X18: =V18+W18 -> 0 | Y18: ='OEO-Weatherization'!H18 -> 0 | Z18: ='OEO-Other'!Y18 -> 0 | AA18: ='Transportation Fund'!Y18 -> 0 | AB18: ='Special Purpose '!E18 -> 0 | AG18: =AE18+AF18 -> 0 | AH18: ='911'!H18 -> 0 | AI18: =B18+C18+D18+E18+F18+G18+K18+L18+M18+N18+Q18+R18+U18+X18+Y18+Z18+AA18+AB18+AD18+AG18+AH18 -> 0
A19: Due to Other Governments | D19: ='Airport Funds'!I18 -> 0 | K19: =SUM(I19:J19) -> 0 | Q19: =SUM(O19:P19) -> 0 | R19: 0 | U19: =S19+T19 -> 0 | X19: =V19+W19 -> 0 | Y19: 0 | Z19: 0 | AA19: 0 | AB19: ='Special Purpose '!E18 -> 0 | AG19: =AE19+AF19 -> 0 | AH19: ='911'!H18 -> 0 | AI19: =B19+C19+D19+E19+F19+G19+K19+L19+M19+N19+Q19+R19+U19+X19+Y19+Z19+AA19+AB19+AD19+AG19+AH19 -> 0
A20: Deferred Revenue | D20: ='Airport Funds'!I19 -> 0 | K20: =SUM(I20:J20) -> 0 | Q20: =SUM(O20:P20) -> 0 | R20: =CDBG!H19 -> 0 | S20: 38585 | U20: =S20+T20 -> 38585 | V20: 1023.39 | W20: 81 | X20: =V20+W20 -> 1104.39 | Y20: ='OEO-Weatherization'!H19 -> 35555.63 | Z20: ='OEO-Other'!Y19 -> 668162.94 | AA20: ='Transportation Fund'!Y20 -> 0 | AB20: ='Special Purpose '!E19 -> 0 | AG20: =AE20+AF20 -> 0 | AH20: ='911'!H19 -> 632466.88 | AI20: =B20+C20+D20+E20+F20+G20+K20+L20+M20+N20+Q20+R20+U20+X20+Y20+Z20+AA20+AB20+AD20+AG20+AH20 -> 1375874.8
A21: Total Liabilities | B21: =SUM(B16:B20) -> 5812.5 | C21: =SUM(C16:C20) -> 0 | D21: ='Airport Funds'!I20 -> 229723.3 | E21: =SUM(E16:E20) -> 0 | F21: =SUM(F16:F20) -> 0 | G21: =SUM(G16:G20) -> 0 | I21: =SUM(I16:I20) -> 1076.23 | J21: =SUM(J16:J20) -> 0 | K21: =SUM(I21:J21) -> 1076.23 | L21: =SUM(L16:L20) -> 40.04 | M21: =SUM(M16:M20) -> 0 | N21: =SUM(N16:N20) -> 707.07 | O21: =SUM(O16:O20) -> 0 | P21: =SUM(P16:P20) -> 0 | Q21: =SUM(O21:P21) -> 0 | R21: =SUM(R16:R20) -> 0 | S21: =SUM(S16:S20) -> 62584.04 | T21: =SUM(T16:T20) -> 0 | U21: =S21+T21 -> 62584.04 | V21: =SUM(V16:V20) -> 8968.3 | W21: =SUM(W16:W20) -> 81 | X21: =V21+W21 -> 9049.3 | Y21: ='OEO-Weatherization'!H20 -> 35742.11 | Z21: ='OEO-Other'!Y20 -> 742929.75 | AA21: ='Transportation Fund'!Y21 -> 110104.52 | AB21: ='Special Purpose '!E20 -> 0 | AD21: =SUM(AD16:AD20) -> 0 | AE21: =SUM(AE16:AE20) -> 0 | AF21: =SUM(AF16:AF20) -> 0 | AG21: =AE21+AF21 -> 0 | AH21: ='911'!H20 -> 848862.68 | AI21: =B21+C21+D21+E21+F21+G21+K21+L21+M21+N21+Q21+R21+U21+X21+Y21+Z21+AA21+AB21+AD21+AG21+AH21 -> 2046631.5
K22: =SUM(I22:J22) -> 0 | Q22: =SUM(O22:P22) -> 0
A23: Fund Balance | K23: =SUM(I23:J23) -> 0 | Q23: =SUM(O23:P23) -> 0
A24: Restricted: | K24: =SUM(I24:J24) -> 0 | Q24: =SUM(O24:P24) -> 0 | R24: =CDBG!H23 -> 0
A25: Operating Reserve | D25: ='Airport Funds'!I24 -> 0 | K25: =SUM(I25:J25) -> 0 | Q25: =SUM(O25:P25) -> 0 | X25: =V25+W25 -> 0 | Y25: ='OEO-Weatherization'!H24 -> 0 | Z25: ='OEO-Other'!Y24 -> 0 | AA25: ='Transportation Fund'!Y25 -> 0 | AB25: ='Special Purpose '!E24 -> 0 | AG25: =AE25+AF25 -> 0 | AH25: ='911'!H24 -> 0 | AI25: =B25+C25+D25+E25+F25+G25+K25+L25+M25+N25+Q25+R25+U25+X25+Y25+Z25+AA25+AB25+AD25+AG25+AH25 -> 0
A26: Human services | D26: ='Airport Funds'!I25 -> 0 | K26: =SUM(I26:J26) -> 0 | Q26: =SUM(O26:P26) -> 0 | X26: =V26+W26 -> 0 | Y26: ='OEO-Weatherization'!H25 -> 0 | Z26: ='OEO-Other'!Y25 -> 0 | AA26: ='Transportation Fund'!Y26 -> 0 | AB26: ='Special Purpose '!E25 -> 40213.88 | AG26: =AE26+AF26 -> 0 | AH26: ='911'!H25 -> 0 | AI26: =B26+C26+D26+E26+F26+G26+K26+L26+M26+N26+Q26+R26+U26+X26+Y26+Z26+AA26+AB26+AD26+AG26+AH26 -> 40213.88
